{"text_format":"3","workbook":"xlsx","n_sheets":9,"sheets":["Instructions","1-10","11-20","21-30","31-40","41-50","51-60","Judges Summary","Start List"],"not_rendered":{"defined_names":344},"read":"whole","date_system":"1900"}

{"sheet":"Instructions","index":0,"n_rows":33,"n_cols":3,"rows_kept":33,"merged":[[0,0,0,14],[32,2,33,3]]}
["Instructions"]
[]
["Do the following on Sheet 1-10 before the start of the race"]
["The following data will populate across all sheets"]
[1,"Fill in the Race Data"]
[null,"¨","Date"]
[null,"¨","Start Time"]
[null,"¨","Race Name"]
[null,"¨","Chief Judge"]
[]
[2,"Fill in the Athletes ID - This may span several pages (1-10, 11-20, etc.)"]
[null,"The start list will aurtopopulate with the athlete IDs for convenience in completing the Summary Sheet"]
[null,"recommend this sheet is printed before the start of the race"]
[]
[3,"Fill in the Judge's Officials Number at the top of the worksheet"]
[]
["Do the following on the appropriate pages -Sheets 1-10 through 51-60"]
[]
[1,"Populate the Sheets with the red card data as they come into the recorder"]
[]
[2,"Populate the yellow card data upon receiving the Tally Sheets from the judges"]
[]
[3,"The spreadsheet will sumarize the results automatically"]
[]
[4,"The sheets can be saved and printed as necessary"]
[]
["Post Race"]
[]
[1,"Have the Chief Judge review, approve, and sign the summary sheet"]
[]
[2,"Recorder and Referee (if no referee is appointed, the Chief Judge serves as Referee) sign the Summary sheet"]
[]
[null,null,"Revision\n20230717-001"]

{"sheet":"1-10","index":1,"n_rows":39,"n_cols":35,"rows_kept":39,"merged":[[0,0,0,34],[1,0,1,3],[1,4,1,8],[1,9,1,27],[1,28,1,34],[2,0,2,3],[2,4,2,8],[2,9,2,27],[2,28,2,34],[3,1,3,3],[3,4,3,6],[3,7,3,9],[3,10,3,12],[3,13,3,15],[3,16,3,18],[3,19,3,21],[3,22,3,24],[3,25,3,27],[3,28,4,28],[3,29,4,29],[3,30,4,31],[3,32,6,32],[3,33,4,34],[4,1,4,3],[4,4,4,6],[4,7,4,9],[4,10,4,12],[4,13,4,15],[4,16,4,18],[4,19,4,21],[4,22,4,24],[4,25,4,27],[5,0,6,0],[5,1,5,2],[5,3,6,3],[5,4,5,5],[5,6,6,6],[5,7,5,8],[5,9,6,9],[5,10,5,11],[5,12,6,12],[5,13,5,14],[5,15,6,15],[5,16,5,17],[5,18,6,18],[5,19,5,20],[5,21,6,21],[5,22,5,23],[5,24,6,24],[5,25,5,26],[5,27,6,27],[5,30,6,30],[5,31,6,31],[5,33,6,33],[5,34,6,34],[7,0,9,0],[7,1,7,34],[8,1,9,1],[8,2,9,2],[8,4,9,4],[8,5,9,5],[8,7,9,7],[8,8,9,8],[8,10,9,10],[8,11,9,11],[8,13,9,13],[8,14,9,14],[8,16,9,16],[8,17,9,17],[8,19,9,19],[8,20,9,20],[8,22,9,22],[8,23,9,23],[8,25,9,25],[8,26,9,26],[8,30,9,30],[8,31,9,31],[8,32,9,32],[8,33,9,33],[8,34,9,34],[10,0,12,0],[10,1,10,34],[11,1,12,1],[11,2,12,2],[11,4,12,4],[11,5,12,5],[11,7,12,7],[11,8,12,8],[11,10,12,10],[11,11,12,11],[11,13,12,13],[11,14,12,14],[11,16,12,16],[11,17,12,17],[11,19,12,19],[11,20,12,20],[11,22,12,22],[11,23,12,23],[11,25,12,25],[11,26,12,26],[11,30,12,30],[11,31,12,31],[11,32,12,32],[11,33,12,33],[11,34,12,34],[13,0,15,0],[13,1,13,34],[14,1,15,1],[14,2,15,2],[14,4,15,4],[14,5,15,5],[14,7,15,7],[14,8,15,8],[14,10,15,10],[14,11,15,11],[14,13,15,13],[14,14,15,14],[14,16,15,16],[14,17,15,17],[14,19,15,19],[14,20,15,20],[14,22,15,22],[14,23,15,23],[14,25,15,25],[14,26,15,26],[14,30,15,30],[14,31,15,31],[14,32,15,32],[14,33,15,33],[14,34,15,34],[16,0,18,0],[16,1,16,34],[17,1,18,1],[17,2,18,2],[17,4,18,4],[17,5,18,5],[17,7,18,7],[17,8,18,8],[17,10,18,10],[17,11,18,11],[17,13,18,13],[17,14,18,14],[17,16,18,16],[17,17,18,17],[17,19,18,19],[17,20,18,20],[17,22,18,22],[17,23,18,23],[17,25,18,25],[17,26,18,26],[17,30,18,30],[17,31,18,31],[17,32,18,32],[17,33,18,33],[17,34,18,34],[19,0,21,0],[19,1,19,34],[20,1,21,1],[20,2,21,2],[20,4,21,4],[20,5,21,5],[20,7,21,7],[20,8,21,8],[20,10,21,10],[20,11,21,11],[20,13,21,13],[20,14,21,14],[20,16,21,16],[20,17,21,17],[20,19,21,19],[20,20,21,20],[20,22,21,22],[20,23,21,23],[20,25,21,25],[20,26,21,26],[20,30,21,30],[20,31,21,31],[20,32,21,32],[20,33,21,33],[20,34,21,34],[22,0,24,0],[22,1,22,34],[23,1,24,1],[23,2,24,2],[23,4,24,4],[23,5,24,5],[23,7,24,7],[23,8,24,8],[23,10,24,10],[23,11,24,11],[23,13,24,13],[23,14,24,14],[23,16,24,16],[23,17,24,17],[23,19,24,19],[23,20,24,20],[23,22,24,22],[23,23,24,23],[23,25,24,25],[23,26,24,26],[23,30,24,30],[23,31,24,31],[23,32,24,32],[23,33,24,33],[23,34,24,34],[25,0,27,0],[25,1,25,34],[26,1,27,1],[26,2,27,2],[26,4,27,4],[26,5,27,5],[26,7,27,7],[26,8,27,8],[26,10,27,10],[26,11,27,11],[26,13,27,13],[26,14,27,14],[26,16,27,16],[26,17,27,17],[26,19,27,19],[26,20,27,20],[26,22,27,22],[26,23,27,23],[26,25,27,25],[26,26,27,26],[26,30,27,30],[26,31,27,31],[26,32,27,32],[26,33,27,33],[26,34,27,34],[28,0,30,0],[28,1,28,34],[29,1,30,1],[29,2,30,2],[29,4,30,4],[29,5,30,5],[29,7,30,7],[29,8,30,8],[29,10,30,10],[29,11,30,11],[29,13,30,13],[29,14,30,14],[29,16,30,16],[29,17,30,17],[29,19,30,19],[29,20,30,20],[29,22,30,22],[29,23,30,23],[29,25,30,25],[29,26,30,26],[29,30,30,30],[29,31,30,31],[29,32,30,32],[29,33,30,33],[29,34,30,34],[31,0,33,0],[31,1,31,34],[32,1,33,1],[32,2,33,2],[32,4,33,4],[32,5,33,5],[32,7,33,7],[32,8,33,8],[32,10,33,10],[32,11,33,11],[32,13,33,13],[32,14,33,14],[32,16,33,16],[32,17,33,17],[32,19,33,19],[32,20,33,20],[32,22,33,22],[32,23,33,23],[32,25,33,25],[32,26,33,26],[32,30,33,30],[32,31,33,31],[32,32,33,32],[32,33,33,33],[32,34,33,34],[34,0,36,0],[34,1,34,34],[35,1,36,1],[35,2,36,2],[35,4,36,4],[35,5,36,5],[35,7,36,7],[35,8,36,8],[35,10,36,10],[35,11,36,11],[35,13,36,13],[35,14,36,14],[35,16,36,16],[35,17,36,17],[35,19,36,19],[35,20,36,20],[35,22,36,22],[35,23,36,23],[35,25,36,25],[35,26,36,26],[35,30,36,30],[35,31,36,31],[35,32,36,32],[35,33,36,33],[35,34,36,34],[37,0,37,22],[37,23,37,34],[38,0,38,22],[38,23,38,24],[38,25,38,27],[38,29,38,30]]}
["Race Walk Judge's Summary Sheet"]
["Date",{"$nulls":3},"Start Time",{"$nulls":4},"Event",{"$nulls":18},"Chief Judge"]
[]
["Judge's Name & ID",{"$nulls":27},"Penalty Zone","Chief Judge DQ","Number of Yellow Paddles",null,"Red Cards","DQ Notification"]
["Number",1,null,null,2,null,null,3,null,null,4,null,null,5,null,null,6,null,null,7,null,null,8,null,null,9]
["Athlete ID","Paddle",null,"RC","Paddle",null,"RC","Paddle",null,"RC","Paddle",null,"RC","Paddle",null,"RC","Paddle",null,"RC","Paddle",null,"RC","Paddle",null,"RC","Paddle",null,"RC","Enter","Time","~","<",null,"Time","Call"]
[null,"~","<",null,"~","<",null,"~","<",null,"~","<",null,"~","<",null,"~","<",null,"~","<",null,"~","<",null,"~","<",null,"Exit","Call"]
[]
[{"$nulls":30},{"$f":"COUNT(S1R1LOC)","v":0},{"$f":"COUNT(S1R1BK)","v":0},{"$f":"COUNTA(S1R1RC)","v":0}]
[]
[]
[{"$nulls":30},{"$f":"COUNT(S1R2LOC)","v":0},{"$f":"COUNT(S1R2BK)","v":0},{"$f":"COUNTA(S1R2RC)","v":0}]
[]
[]
[{"$nulls":30},{"$f":"COUNT(S1R3LOC)","v":0},{"$f":"COUNT(S1R3BK)","v":0},{"$f":"COUNTA(S1R3RC)","v":0}]
[]
[]
[{"$nulls":30},{"$f":"COUNT(S1R4LOC)","v":0},{"$f":"COUNT(S1R4BK)","v":0},{"$f":"COUNTA(S1R4RC)","v":0}]
[]
[]
[{"$nulls":30},{"$f":"COUNT(S1R5LOC)","v":0},{"$f":"COUNT(S1R5BK)","v":0},{"$f":"COUNTA(S1R5RC)","v":0}]
[]
[]
[{"$nulls":30},{"$f":"COUNT(S1R6LOC)","v":0},{"$f":"COUNT(S1R6BK)","v":0},{"$f":"COUNTA(S1R6RC)","v":0}]
[]
[]
[{"$nulls":30},{"$f":"COUNT(S1R7LOC)","v":0},{"$f":"COUNT(S1R7BK)","v":0},{"$f":"COUNTA(S1R7RC)","v":0}]
[]
[]
[{"$nulls":30},{"$f":"COUNT(S1R8LOC)","v":0},{"$f":"COUNT(S1R8BK)","v":0},{"$f":"COUNTA(S1R8RC)","v":0}]
[]
[]
[{"$nulls":30},{"$f":"COUNT(S1R9LOC)","v":0},{"$f":"COUNT(S1R9BK)","v":0},{"$f":"COUNTA(S1R9RC)","v":0}]
[]
[]
[{"$nulls":30},{"$f":"COUNT(S1R10LOC)","v":0},{"$f":"COUNT(S1R10BK)","v":0},{"$f":"COUNTA(S1R10RC)","v":0}]
[]
["Referee Name/Signature",{"$nulls":22},"Chief Judge Signature"]
["Recorder Name/Signature",{"$nulls":22},"Page",{"$nulls":4},"of"]

{"sheet":"11-20","index":2,"n_rows":39,"n_cols":35,"rows_kept":39,"merged":[[0,0,0,34],[1,0,1,3],[1,4,1,8],[1,9,1,27],[1,28,1,34],[2,0,2,3],[2,4,2,8],[2,9,2,27],[2,28,2,34],[3,1,3,3],[3,4,3,6],[3,7,3,9],[3,10,3,12],[3,13,3,15],[3,16,3,18],[3,19,3,21],[3,22,3,24],[3,25,3,27],[3,28,4,28],[3,29,4,29],[3,30,4,31],[3,32,6,32],[3,33,4,34],[4,1,4,3],[4,4,4,6],[4,7,4,9],[4,10,4,12],[4,13,4,15],[4,16,4,18],[4,19,4,21],[4,22,4,24],[4,25,4,27],[5,0,6,0],[5,1,5,2],[5,3,6,3],[5,4,5,5],[5,6,6,6],[5,7,5,8],[5,9,6,9],[5,10,5,11],[5,12,6,12],[5,13,5,14],[5,15,6,15],[5,16,5,17],[5,18,6,18],[5,19,5,20],[5,21,6,21],[5,22,5,23],[5,24,6,24],[5,25,5,26],[5,27,6,27],[5,30,6,30],[5,31,6,31],[5,33,6,33],[5,34,6,34],[7,0,9,0],[7,1,7,34],[8,1,9,1],[8,2,9,2],[8,4,9,4],[8,5,9,5],[8,7,9,7],[8,8,9,8],[8,10,9,10],[8,11,9,11],[8,13,9,13],[8,14,9,14],[8,16,9,16],[8,17,9,17],[8,19,9,19],[8,20,9,20],[8,22,9,22],[8,23,9,23],[8,25,9,25],[8,26,9,26],[8,30,9,30],[8,31,9,31],[8,32,9,32],[8,33,9,33],[8,34,9,34],[10,0,12,0],[10,1,10,34],[11,1,12,1],[11,2,12,2],[11,4,12,4],[11,5,12,5],[11,7,12,7],[11,8,12,8],[11,10,12,10],[11,11,12,11],[11,13,12,13],[11,14,12,14],[11,16,12,16],[11,17,12,17],[11,19,12,19],[11,20,12,20],[11,22,12,22],[11,23,12,23],[11,25,12,25],[11,26,12,26],[11,30,12,30],[11,31,12,31],[11,32,12,32],[11,33,12,33],[11,34,12,34],[13,0,15,0],[13,1,13,34],[14,1,15,1],[14,2,15,2],[14,4,15,4],[14,5,15,5],[14,7,15,7],[14,8,15,8],[14,10,15,10],[14,11,15,11],[14,13,15,13],[14,14,15,14],[14,16,15,16],[14,17,15,17],[14,19,15,19],[14,20,15,20],[14,22,15,22],[14,23,15,23],[14,25,15,25],[14,26,15,26],[14,30,15,30],[14,31,15,31],[14,32,15,32],[14,33,15,33],[14,34,15,34],[16,0,18,0],[16,1,16,34],[17,1,18,1],[17,2,18,2],[17,4,18,4],[17,5,18,5],[17,7,18,7],[17,8,18,8],[17,10,18,10],[17,11,18,11],[17,13,18,13],[17,14,18,14],[17,16,18,16],[17,17,18,17],[17,19,18,19],[17,20,18,20],[17,22,18,22],[17,23,18,23],[17,25,18,25],[17,26,18,26],[17,30,18,30],[17,31,18,31],[17,32,18,32],[17,33,18,33],[17,34,18,34],[19,0,21,0],[19,1,19,34],[20,1,21,1],[20,2,21,2],[20,4,21,4],[20,5,21,5],[20,7,21,7],[20,8,21,8],[20,10,21,10],[20,11,21,11],[20,13,21,13],[20,14,21,14],[20,16,21,16],[20,17,21,17],[20,19,21,19],[20,20,21,20],[20,22,21,22],[20,23,21,23],[20,25,21,25],[20,26,21,26],[20,30,21,30],[20,31,21,31],[20,32,21,32],[20,33,21,33],[20,34,21,34],[22,0,24,0],[22,1,22,34],[23,1,24,1],[23,2,24,2],[23,4,24,4],[23,5,24,5],[23,7,24,7],[23,8,24,8],[23,10,24,10],[23,11,24,11],[23,13,24,13],[23,14,24,14],[23,16,24,16],[23,17,24,17],[23,19,24,19],[23,20,24,20],[23,22,24,22],[23,23,24,23],[23,25,24,25],[23,26,24,26],[23,30,24,30],[23,31,24,31],[23,32,24,32],[23,33,24,33],[23,34,24,34],[25,0,27,0],[25,1,25,34],[26,1,27,1],[26,2,27,2],[26,4,27,4],[26,5,27,5],[26,7,27,7],[26,8,27,8],[26,10,27,10],[26,11,27,11],[26,13,27,13],[26,14,27,14],[26,16,27,16],[26,17,27,17],[26,19,27,19],[26,20,27,20],[26,22,27,22],[26,23,27,23],[26,25,27,25],[26,26,27,26],[26,30,27,30],[26,31,27,31],[26,32,27,32],[26,33,27,33],[26,34,27,34],[28,0,30,0],[28,1,28,34],[29,1,30,1],[29,2,30,2],[29,4,30,4],[29,5,30,5],[29,7,30,7],[29,8,30,8],[29,10,30,10],[29,11,30,11],[29,13,30,13],[29,14,30,14],[29,16,30,16],[29,17,30,17],[29,19,30,19],[29,20,30,20],[29,22,30,22],[29,23,30,23],[29,25,30,25],[29,26,30,26],[29,30,30,30],[29,31,30,31],[29,32,30,32],[29,33,30,33],[29,34,30,34],[31,0,33,0],[31,1,31,34],[32,1,33,1],[32,2,33,2],[32,4,33,4],[32,5,33,5],[32,7,33,7],[32,8,33,8],[32,10,33,10],[32,11,33,11],[32,13,33,13],[32,14,33,14],[32,16,33,16],[32,17,33,17],[32,19,33,19],[32,20,33,20],[32,22,33,22],[32,23,33,23],[32,25,33,25],[32,26,33,26],[32,30,33,30],[32,31,33,31],[32,32,33,32],[32,33,33,33],[32,34,33,34],[34,0,36,0],[34,1,34,34],[35,1,36,1],[35,2,36,2],[35,4,36,4],[35,5,36,5],[35,7,36,7],[35,8,36,8],[35,10,36,10],[35,11,36,11],[35,13,36,13],[35,14,36,14],[35,16,36,16],[35,17,36,17],[35,19,36,19],[35,20,36,20],[35,22,36,22],[35,23,36,23],[35,25,36,25],[35,26,36,26],[35,30,36,30],[35,31,36,31],[35,32,36,32],[35,33,36,33],[35,34,36,34],[37,0,37,22],[37,23,37,34],[38,0,38,22],[38,23,38,24],[38,25,38,27],[38,29,38,30]]}
["Race Walk Judge's Summary Sheet"]
["Date",{"$nulls":3},"Start Time",{"$nulls":4},"Event",{"$nulls":18},"Chief Judge"]
[{"$f":"'1-10'!A3","v":"00:00:00"},{"$nulls":3},{"$f":"'1-10'!E3","v":"00:00:00"},{"$nulls":4},{"$f":"'1-10'!J3","v":0},{"$nulls":18},{"$f":"'1-10'!AC3","v":0}]
["Judge's Name & ID",{"$f":"'1-10'!B4","v":0},null,null,{"$f":"'1-10'!E4","v":0},null,null,{"$f":"'1-10'!H4","v":0},null,null,{"$f":"'1-10'!K4","v":0},null,null,{"$f":"'1-10'!N4","v":0},null,null,{"$f":"'1-10'!Q4","v":0},null,null,{"$f":"'1-10'!T4","v":0},null,null,{"$f":"'1-10'!W4","v":0},null,null,{"$f":"'1-10'!Z4","v":0},null,null,"Penalty Zone","Chief Judge DQ","Number of Yellow Paddles",null,"Red Cards","DQ Notification"]
["Number",1,null,null,2,null,null,3,null,null,4,null,null,5,null,null,6,null,null,7,null,null,8,null,null,9]
["Athlete ID","Paddle",null,"RC","Paddle",null,"RC","Paddle",null,"RC","Paddle",null,"RC","Paddle",null,"RC","Paddle",null,"RC","Paddle",null,"RC","Paddle",null,"RC","Paddle",null,"RC","Enter","Time","~","<",null,"Time","Call"]
[null,"~","<",null,"~","<",null,"~","<",null,"~","<",null,"~","<",null,"~","<",null,"~","<",null,"~","<",null,"~","<",null,"Exit","Call"]
[]
[{"$nulls":30},{"$f":"COUNT(s2R1LOC)","v":0},{"$f":"COUNT(S2R1BK)","v":0},{"$f":"COUNTA(S2R1RC)","v":0}]
[]
[]
[{"$nulls":30},{"$f":"COUNT(S2R2LOC)","v":0},{"$f":"COUNT(S2R2BK)","v":0},{"$f":"COUNTA(S2R2RC)","v":0}]
[]
[]
[{"$nulls":30},{"$f":"COUNT(S2R3LOC)","v":0},{"$f":"COUNT(S2R3BK)","v":0},{"$f":"COUNTA(s2r3rc)","v":0}]
[]
[]
[{"$nulls":30},{"$f":"COUNT(S2R4LOC)","v":0},{"$f":"COUNT(S2R4BK)","v":0},{"$f":"COUNTA(S2R4RC)","v":0}]
[]
[]
[{"$nulls":30},{"$f":"COUNT(S2R5LOC)","v":0},{"$f":"COUNT(S2R5BK)","v":0},{"$f":"COUNTA(S2R5RC)","v":0}]
[]
[]
[{"$nulls":30},{"$f":"COUNT(S2R6LOC)","v":0},{"$f":"COUNT(S2R6BK)","v":0},{"$f":"COUNTA(S2R6RC)","v":0}]
[]
[]
[{"$nulls":30},{"$f":"COUNT(S2R7LOC)","v":0},{"$f":"COUNT(S2R7BK)","v":0},{"$f":"COUNTA(S2R7RC)","v":0}]
[]
[]
[{"$nulls":30},{"$f":"COUNT(S2R8LOC)","v":0},{"$f":"COUNT(S2R8BK)","v":0},{"$f":"COUNTA(S2R8RC)","v":0}]
[]
[]
[{"$nulls":30},{"$f":"COUNT(S2R9LOC)","v":0},{"$f":"COUNT(S2R9BK)","v":0},{"$f":"COUNTA(S2R9RC)","v":0}]
[]
[]
[{"$nulls":30},{"$f":"COUNT(S2R10LOC)","v":0},{"$f":"COUNT(S2R10BK)","v":0},{"$f":"COUNTA(S2R10RC)","v":0}]
[]
["Referee Name/Signature",{"$nulls":22},"Chief Judge Signature"]
["Recorder Name/Signature",{"$nulls":22},"Page",{"$nulls":4},"of"]

{"sheet":"21-30","index":3,"n_rows":39,"n_cols":35,"rows_kept":39,"merged":[[0,0,0,34],[1,0,1,3],[1,4,1,8],[1,9,1,27],[1,28,1,34],[2,0,2,3],[2,4,2,8],[2,9,2,27],[2,28,2,34],[3,1,3,3],[3,4,3,6],[3,7,3,9],[3,10,3,12],[3,13,3,15],[3,16,3,18],[3,19,3,21],[3,22,3,24],[3,25,3,27],[3,28,4,28],[3,29,4,29],[3,30,4,31],[3,32,6,32],[3,33,4,34],[4,1,4,3],[4,4,4,6],[4,7,4,9],[4,10,4,12],[4,13,4,15],[4,16,4,18],[4,19,4,21],[4,22,4,24],[4,25,4,27],[5,0,6,0],[5,1,5,2],[5,3,6,3],[5,4,5,5],[5,6,6,6],[5,7,5,8],[5,9,6,9],[5,10,5,11],[5,12,6,12],[5,13,5,14],[5,15,6,15],[5,16,5,17],[5,18,6,18],[5,19,5,20],[5,21,6,21],[5,22,5,23],[5,24,6,24],[5,25,5,26],[5,27,6,27],[5,30,6,30],[5,31,6,31],[5,33,6,33],[5,34,6,34],[7,0,9,0],[7,1,7,34],[8,1,9,1],[8,2,9,2],[8,4,9,4],[8,5,9,5],[8,7,9,7],[8,8,9,8],[8,10,9,10],[8,11,9,11],[8,13,9,13],[8,14,9,14],[8,16,9,16],[8,17,9,17],[8,19,9,19],[8,20,9,20],[8,22,9,22],[8,23,9,23],[8,25,9,25],[8,26,9,26],[8,30,9,30],[8,31,9,31],[8,32,9,32],[8,33,9,33],[8,34,9,34],[10,0,12,0],[10,1,10,34],[11,1,12,1],[11,2,12,2],[11,4,12,4],[11,5,12,5],[11,7,12,7],[11,8,12,8],[11,10,12,10],[11,11,12,11],[11,13,12,13],[11,14,12,14],[11,16,12,16],[11,17,12,17],[11,19,12,19],[11,20,12,20],[11,22,12,22],[11,23,12,23],[11,25,12,25],[11,26,12,26],[11,30,12,30],[11,31,12,31],[11,32,12,32],[11,33,12,33],[11,34,12,34],[13,0,15,0],[13,1,13,34],[14,1,15,1],[14,2,15,2],[14,4,15,4],[14,5,15,5],[14,7,15,7],[14,8,15,8],[14,10,15,10],[14,11,15,11],[14,13,15,13],[14,14,15,14],[14,16,15,16],[14,17,15,17],[14,19,15,19],[14,20,15,20],[14,22,15,22],[14,23,15,23],[14,25,15,25],[14,26,15,26],[14,30,15,30],[14,31,15,31],[14,32,15,32],[14,33,15,33],[14,34,15,34],[16,0,18,0],[16,1,16,34],[17,1,18,1],[17,2,18,2],[17,4,18,4],[17,5,18,5],[17,7,18,7],[17,8,18,8],[17,10,18,10],[17,11,18,11],[17,13,18,13],[17,14,18,14],[17,16,18,16],[17,17,18,17],[17,19,18,19],[17,20,18,20],[17,22,18,22],[17,23,18,23],[17,25,18,25],[17,26,18,26],[17,30,18,30],[17,31,18,31],[17,32,18,32],[17,33,18,33],[17,34,18,34],[19,0,21,0],[19,1,19,34],[20,1,21,1],[20,2,21,2],[20,4,21,4],[20,5,21,5],[20,7,21,7],[20,8,21,8],[20,10,21,10],[20,11,21,11],[20,13,21,13],[20,14,21,14],[20,16,21,16],[20,17,21,17],[20,19,21,19],[20,20,21,20],[20,22,21,22],[20,23,21,23],[20,25,21,25],[20,26,21,26],[20,30,21,30],[20,31,21,31],[20,32,21,32],[20,33,21,33],[20,34,21,34],[22,0,24,0],[22,1,22,34],[23,1,24,1],[23,2,24,2],[23,4,24,4],[23,5,24,5],[23,7,24,7],[23,8,24,8],[23,10,24,10],[23,11,24,11],[23,13,24,13],[23,14,24,14],[23,16,24,16],[23,17,24,17],[23,19,24,19],[23,20,24,20],[23,22,24,22],[23,23,24,23],[23,25,24,25],[23,26,24,26],[23,30,24,30],[23,31,24,31],[23,32,24,32],[23,33,24,33],[23,34,24,34],[25,0,27,0],[25,1,25,34],[26,1,27,1],[26,2,27,2],[26,4,27,4],[26,5,27,5],[26,7,27,7],[26,8,27,8],[26,10,27,10],[26,11,27,11],[26,13,27,13],[26,14,27,14],[26,16,27,16],[26,17,27,17],[26,19,27,19],[26,20,27,20],[26,22,27,22],[26,23,27,23],[26,25,27,25],[26,26,27,26],[26,30,27,30],[26,31,27,31],[26,32,27,32],[26,33,27,33],[26,34,27,34],[28,0,30,0],[28,1,28,34],[29,1,30,1],[29,2,30,2],[29,4,30,4],[29,5,30,5],[29,7,30,7],[29,8,30,8],[29,10,30,10],[29,11,30,11],[29,13,30,13],[29,14,30,14],[29,16,30,16],[29,17,30,17],[29,19,30,19],[29,20,30,20],[29,22,30,22],[29,23,30,23],[29,25,30,25],[29,26,30,26],[29,30,30,30],[29,31,30,31],[29,32,30,32],[29,33,30,33],[29,34,30,34],[31,0,33,0],[31,1,31,34],[32,1,33,1],[32,2,33,2],[32,4,33,4],[32,5,33,5],[32,7,33,7],[32,8,33,8],[32,10,33,10],[32,11,33,11],[32,13,33,13],[32,14,33,14],[32,16,33,16],[32,17,33,17],[32,19,33,19],[32,20,33,20],[32,22,33,22],[32,23,33,23],[32,25,33,25],[32,26,33,26],[32,30,33,30],[32,31,33,31],[32,32,33,32],[32,33,33,33],[32,34,33,34],[34,0,36,0],[34,1,34,34],[35,1,36,1],[35,2,36,2],[35,4,36,4],[35,5,36,5],[35,7,36,7],[35,8,36,8],[35,10,36,10],[35,11,36,11],[35,13,36,13],[35,14,36,14],[35,16,36,16],[35,17,36,17],[35,19,36,19],[35,20,36,20],[35,22,36,22],[35,23,36,23],[35,25,36,25],[35,26,36,26],[35,30,36,30],[35,31,36,31],[35,32,36,32],[35,33,36,33],[35,34,36,34],[37,0,37,22],[37,23,37,34],[38,0,38,22],[38,23,38,24],[38,25,38,27],[38,29,38,30]]}
["Race Walk Judge's Summary Sheet"]
["Date",{"$nulls":3},"Start Time",{"$nulls":4},"Event",{"$nulls":18},"Chief Judge"]
[{"$f":"'1-10'!A3","v":"00:00:00"},{"$nulls":3},{"$f":"'1-10'!E3","v":"00:00:00"},{"$nulls":4},{"$f":"'1-10'!J3","v":0},{"$nulls":18},{"$f":"'1-10'!AC3","v":0}]
["Judge's Name & ID",{"$f":"'1-10'!B4","v":0},null,null,{"$f":"'1-10'!E4","v":0},null,null,{"$f":"'1-10'!H4","v":0},null,null,{"$f":"'1-10'!K4","v":0},null,null,{"$f":"'1-10'!N4","v":0},null,null,{"$f":"'1-10'!Q4","v":0},null,null,{"$f":"'1-10'!T4","v":0},null,null,{"$f":"'1-10'!W4","v":0},null,null,{"$f":"'1-10'!Z4","v":0},null,null,"Penalty Zone","Chief Judge DQ","Number of Yellow Paddles",null,"Red Cards","DQ Notification"]
["Number",1,null,null,2,null,null,3,null,null,4,null,null,5,null,null,6,null,null,7,null,null,8,null,null,9]
["Athlete ID","Paddle",null,"RC","Paddle",null,"RC","Paddle",null,"RC","Paddle",null,"RC","Paddle",null,"RC","Paddle",null,"RC","Paddle",null,"RC","Paddle",null,"RC","Paddle",null,"RC","Enter","Time","~","<",null,"Time","Call"]
[null,"~","<",null,"~","<",null,"~","<",null,"~","<",null,"~","<",null,"~","<",null,"~","<",null,"~","<",null,"~","<",null,"Exit","Call"]
[]
[{"$nulls":30},{"$f":"COUNT(S3R1LOC)","v":0},{"$f":"COUNT(S3R1BK)","v":0},{"$f":"COUNTA(S3R1RC)","v":0}]
[]
[]
[{"$nulls":30},{"$f":"COUNT(S3R2LOC)","v":0},{"$f":"COUNT(S3R2BK)","v":0},{"$f":"COUNTA(S3R2RC)","v":0}]
[]
[]
[{"$nulls":30},{"$f":"COUNT(S3R3LOC)","v":0},{"$f":"COUNT(S3R3BK)","v":0},{"$f":"COUNTA(S3R3RC)","v":0}]
[]
[]
[{"$nulls":30},{"$f":"COUNT(S3R4LOC)","v":0},{"$f":"COUNT(S3R4BK)","v":0},{"$f":"COUNTA(S3R4RC)","v":0}]
[]
[]
[{"$nulls":30},{"$f":"COUNT(S3R5LOC)","v":0},{"$f":"COUNT(S3R5BK)","v":0},{"$f":"COUNTA(S3R5RC)","v":0}]
[]
[]
[{"$nulls":30},{"$f":"COUNT(S3R6LOC)","v":0},{"$f":"COUNT(S3R6BK)","v":0},{"$f":"COUNTA(S3R6RC)","v":0}]
[]
[]
[{"$nulls":30},{"$f":"COUNT(S3R7LOC)","v":0},{"$f":"COUNT(S3R7BK)","v":0},{"$f":"COUNTA(S3R7RC)","v":0}]
[]
[]
[{"$nulls":30},{"$f":"COUNT(S3R8LOC)","v":0},{"$f":"COUNT(S3R8BK)","v":0},{"$f":"COUNTA(S3R8RC)","v":0}]
[]
[]
[{"$nulls":30},{"$f":"COUNT(S3R9LOC)","v":0},{"$f":"COUNT(S3R9BK)","v":0},{"$f":"COUNTA(S3R9RC)","v":0}]
[]
[]
[{"$nulls":30},{"$f":"COUNT(S3R10LOC)","v":0},{"$f":"COUNT(S3R10BK)","v":0},{"$f":"COUNTA(S3R10RC)","v":0}]
[]
["Referee Name/Signature",{"$nulls":22},"Chief Judge Signature"]
["Recorder Name/Signature",{"$nulls":22},"Page",{"$nulls":4},"of"]

{"sheet":"31-40","index":4,"n_rows":39,"n_cols":35,"rows_kept":39,"merged":[[0,0,0,34],[1,0,1,3],[1,4,1,8],[1,9,1,27],[1,28,1,34],[2,0,2,3],[2,4,2,8],[2,9,2,27],[2,28,2,34],[3,1,3,3],[3,4,3,6],[3,7,3,9],[3,10,3,12],[3,13,3,15],[3,16,3,18],[3,19,3,21],[3,22,3,24],[3,25,3,27],[3,28,4,28],[3,29,4,29],[3,30,4,31],[3,32,6,32],[3,33,4,34],[4,1,4,3],[4,4,4,6],[4,7,4,9],[4,10,4,12],[4,13,4,15],[4,16,4,18],[4,19,4,21],[4,22,4,24],[4,25,4,27],[5,0,6,0],[5,1,5,2],[5,3,6,3],[5,4,5,5],[5,6,6,6],[5,7,5,8],[5,9,6,9],[5,10,5,11],[5,12,6,12],[5,13,5,14],[5,15,6,15],[5,16,5,17],[5,18,6,18],[5,19,5,20],[5,21,6,21],[5,22,5,23],[5,24,6,24],[5,25,5,26],[5,27,6,27],[5,30,6,30],[5,31,6,31],[5,33,6,33],[5,34,6,34],[7,0,9,0],[7,1,7,34],[8,1,9,1],[8,2,9,2],[8,4,9,4],[8,5,9,5],[8,7,9,7],[8,8,9,8],[8,10,9,10],[8,11,9,11],[8,13,9,13],[8,14,9,14],[8,16,9,16],[8,17,9,17],[8,19,9,19],[8,20,9,20],[8,22,9,22],[8,23,9,23],[8,25,9,25],[8,26,9,26],[8,30,9,30],[8,31,9,31],[8,32,9,32],[8,33,9,33],[8,34,9,34],[10,0,12,0],[10,1,10,34],[11,1,12,1],[11,2,12,2],[11,4,12,4],[11,5,12,5],[11,7,12,7],[11,8,12,8],[11,10,12,10],[11,11,12,11],[11,13,12,13],[11,14,12,14],[11,16,12,16],[11,17,12,17],[11,19,12,19],[11,20,12,20],[11,22,12,22],[11,23,12,23],[11,25,12,25],[11,26,12,26],[11,30,12,30],[11,31,12,31],[11,32,12,32],[11,33,12,33],[11,34,12,34],[13,0,15,0],[13,1,13,34],[14,1,15,1],[14,2,15,2],[14,4,15,4],[14,5,15,5],[14,7,15,7],[14,8,15,8],[14,10,15,10],[14,11,15,11],[14,13,15,13],[14,14,15,14],[14,16,15,16],[14,17,15,17],[14,19,15,19],[14,20,15,20],[14,22,15,22],[14,23,15,23],[14,25,15,25],[14,26,15,26],[14,30,15,30],[14,31,15,31],[14,32,15,32],[14,33,15,33],[14,34,15,34],[16,0,18,0],[16,1,16,34],[17,1,18,1],[17,2,18,2],[17,4,18,4],[17,5,18,5],[17,7,18,7],[17,8,18,8],[17,10,18,10],[17,11,18,11],[17,13,18,13],[17,14,18,14],[17,16,18,16],[17,17,18,17],[17,19,18,19],[17,20,18,20],[17,22,18,22],[17,23,18,23],[17,25,18,25],[17,26,18,26],[17,30,18,30],[17,31,18,31],[17,32,18,32],[17,33,18,33],[17,34,18,34],[19,0,21,0],[19,1,19,34],[20,1,21,1],[20,2,21,2],[20,4,21,4],[20,5,21,5],[20,7,21,7],[20,8,21,8],[20,10,21,10],[20,11,21,11],[20,13,21,13],[20,14,21,14],[20,16,21,16],[20,17,21,17],[20,19,21,19],[20,20,21,20],[20,22,21,22],[20,23,21,23],[20,25,21,25],[20,26,21,26],[20,30,21,30],[20,31,21,31],[20,32,21,32],[20,33,21,33],[20,34,21,34],[22,0,24,0],[22,1,22,34],[23,1,24,1],[23,2,24,2],[23,4,24,4],[23,5,24,5],[23,7,24,7],[23,8,24,8],[23,10,24,10],[23,11,24,11],[23,13,24,13],[23,14,24,14],[23,16,24,16],[23,17,24,17],[23,19,24,19],[23,20,24,20],[23,22,24,22],[23,23,24,23],[23,25,24,25],[23,26,24,26],[23,30,24,30],[23,31,24,31],[23,32,24,32],[23,33,24,33],[23,34,24,34],[25,0,27,0],[25,1,25,34],[26,1,27,1],[26,2,27,2],[26,4,27,4],[26,5,27,5],[26,7,27,7],[26,8,27,8],[26,10,27,10],[26,11,27,11],[26,13,27,13],[26,14,27,14],[26,16,27,16],[26,17,27,17],[26,19,27,19],[26,20,27,20],[26,22,27,22],[26,23,27,23],[26,25,27,25],[26,26,27,26],[26,30,27,30],[26,31,27,31],[26,32,27,32],[26,33,27,33],[26,34,27,34],[28,0,30,0],[28,1,28,34],[29,1,30,1],[29,2,30,2],[29,4,30,4],[29,5,30,5],[29,7,30,7],[29,8,30,8],[29,10,30,10],[29,11,30,11],[29,13,30,13],[29,14,30,14],[29,16,30,16],[29,17,30,17],[29,19,30,19],[29,20,30,20],[29,22,30,22],[29,23,30,23],[29,25,30,25],[29,26,30,26],[29,30,30,30],[29,31,30,31],[29,32,30,32],[29,33,30,33],[29,34,30,34],[31,0,33,0],[31,1,31,34],[32,1,33,1],[32,2,33,2],[32,4,33,4],[32,5,33,5],[32,7,33,7],[32,8,33,8],[32,10,33,10],[32,11,33,11],[32,13,33,13],[32,14,33,14],[32,16,33,16],[32,17,33,17],[32,19,33,19],[32,20,33,20],[32,22,33,22],[32,23,33,23],[32,25,33,25],[32,26,33,26],[32,30,33,30],[32,31,33,31],[32,32,33,32],[32,33,33,33],[32,34,33,34],[34,0,36,0],[34,1,34,34],[35,1,36,1],[35,2,36,2],[35,4,36,4],[35,5,36,5],[35,7,36,7],[35,8,36,8],[35,10,36,10],[35,11,36,11],[35,13,36,13],[35,14,36,14],[35,16,36,16],[35,17,36,17],[35,19,36,19],[35,20,36,20],[35,22,36,22],[35,23,36,23],[35,25,36,25],[35,26,36,26],[35,30,36,30],[35,31,36,31],[35,32,36,32],[35,33,36,33],[35,34,36,34],[37,0,37,22],[37,23,37,34],[38,0,38,22],[38,23,38,24],[38,25,38,27],[38,29,38,30]]}
["Race Walk Judge's Summary Sheet"]
["Date",{"$nulls":3},"Start Time",{"$nulls":4},"Event",{"$nulls":18},"Chief Judge"]
[{"$f":"'1-10'!A3","v":"00:00:00"},{"$nulls":3},{"$f":"'1-10'!E3","v":"00:00:00"},{"$nulls":4},{"$f":"'1-10'!J3","v":0},{"$nulls":18},{"$f":"'1-10'!AC3","v":0}]
["Judge's Name & ID",{"$f":"'1-10'!B4","v":0},null,null,{"$f":"'1-10'!E4","v":0},null,null,{"$f":"'1-10'!H4","v":0},null,null,{"$f":"'1-10'!K4","v":0},null,null,{"$f":"'1-10'!N4","v":0},null,null,{"$f":"'1-10'!Q4","v":0},null,null,{"$f":"'1-10'!T4","v":0},null,null,{"$f":"'1-10'!W4","v":0},null,null,{"$f":"'1-10'!Z4","v":0},null,null,"Penalty Zone","Chief Judge DQ","Number of Yellow Paddles",null,"Red Cards","DQ Notification"]
["Number",1,null,null,2,null,null,3,null,null,4,null,null,5,null,null,6,null,null,7,null,null,8,null,null,9]
["Athlete ID","Paddle",null,"RC","Paddle",null,"RC","Paddle",null,"RC","Paddle",null,"RC","Paddle",null,"RC","Paddle",null,"RC","Paddle",null,"RC","Paddle",null,"RC","Paddle",null,"RC","Enter","Time","~","<",null,"Time","Call"]
[null,"~","<",null,"~","<",null,"~","<",null,"~","<",null,"~","<",null,"~","<",null,"~","<",null,"~","<",null,"~","<",null,"Exit","Call"]
[]
[{"$nulls":30},{"$f":"COUNT(S4R1LOC)","v":0},{"$f":"COUNT(S4R1BK)","v":0},{"$f":"COUNTA(S4R1RC)","v":0}]
[]
[]
[{"$nulls":30},{"$f":"COUNT(S4R2LOC)","v":0},{"$f":"COUNT(s4R2BK)","v":0},{"$f":"COUNTA(S4R2RC)","v":0}]
[]
[]
[{"$nulls":30},{"$f":"COUNT(S4R3LOC)","v":0},{"$f":"COUNT(S4R3BK)","v":0},{"$f":"COUNTA(S4R3RC)","v":0}]
[]
[]
[{"$nulls":30},{"$f":"COUNT(S4R4LOC)","v":0},{"$f":"COUNT(S4R4BK)","v":0},{"$f":"COUNTA(S4R4RC)","v":0}]
[]
[]
[{"$nulls":30},{"$f":"COUNT(S4R5LOC)","v":0},{"$f":"COUNT(S4R5BK)","v":0},{"$f":"COUNTA(S4R5RC)","v":0}]
[]
[]
[{"$nulls":30},{"$f":"COUNT(S4R6LOC)","v":0},{"$f":"COUNT(S4R6BK)","v":0},{"$f":"COUNTA(S4R6RC)","v":0}]
[]
[]
[{"$nulls":30},{"$f":"COUNT(S4R7LOC)","v":0},{"$f":"COUNT(S4R7BK)","v":0},{"$f":"COUNTA(S4R7RC)","v":0}]
[]
[]
[{"$nulls":30},{"$f":"COUNT(S4R8LOC)","v":0},{"$f":"COUNT(S4R8BK)","v":0},{"$f":"COUNTA(S4R8RC)","v":0}]
[]
[]
[{"$nulls":30},{"$f":"COUNT(S4R9LOC)","v":0},{"$f":"COUNT(S4R9BK)","v":0},{"$f":"COUNTA(S4R9RC)","v":0}]
[]
[]
[{"$nulls":30},{"$f":"COUNT(S4R10LOC)","v":0},{"$f":"COUNT(S4R10BK)","v":0},{"$f":"COUNTA(S4R10RC)","v":0}]
[]
["Referee Name/Signature",{"$nulls":22},"Chief Judge Signature"]
["Recorder Name/Signature",{"$nulls":22},"Page",{"$nulls":4},"of"]

{"sheet":"41-50","index":5,"n_rows":39,"n_cols":35,"rows_kept":39,"merged":[[0,0,0,34],[1,0,1,3],[1,4,1,8],[1,9,1,27],[1,28,1,34],[2,0,2,3],[2,4,2,8],[2,9,2,27],[2,28,2,34],[3,1,3,3],[3,4,3,6],[3,7,3,9],[3,10,3,12],[3,13,3,15],[3,16,3,18],[3,19,3,21],[3,22,3,24],[3,25,3,27],[3,28,4,28],[3,29,4,29],[3,30,4,31],[3,32,6,32],[3,33,4,34],[4,1,4,3],[4,4,4,6],[4,7,4,9],[4,10,4,12],[4,13,4,15],[4,16,4,18],[4,19,4,21],[4,22,4,24],[4,25,4,27],[5,0,6,0],[5,1,5,2],[5,3,6,3],[5,4,5,5],[5,6,6,6],[5,7,5,8],[5,9,6,9],[5,10,5,11],[5,12,6,12],[5,13,5,14],[5,15,6,15],[5,16,5,17],[5,18,6,18],[5,19,5,20],[5,21,6,21],[5,22,5,23],[5,24,6,24],[5,25,5,26],[5,27,6,27],[5,30,6,30],[5,31,6,31],[5,33,6,33],[5,34,6,34],[7,0,9,0],[7,1,7,34],[8,1,9,1],[8,2,9,2],[8,4,9,4],[8,5,9,5],[8,7,9,7],[8,8,9,8],[8,10,9,10],[8,11,9,11],[8,13,9,13],[8,14,9,14],[8,16,9,16],[8,17,9,17],[8,19,9,19],[8,20,9,20],[8,22,9,22],[8,23,9,23],[8,25,9,25],[8,26,9,26],[8,30,9,30],[8,31,9,31],[8,32,9,32],[8,33,9,33],[8,34,9,34],[10,0,12,0],[10,1,10,34],[11,1,12,1],[11,2,12,2],[11,4,12,4],[11,5,12,5],[11,7,12,7],[11,8,12,8],[11,10,12,10],[11,11,12,11],[11,13,12,13],[11,14,12,14],[11,16,12,16],[11,17,12,17],[11,19,12,19],[11,20,12,20],[11,22,12,22],[11,23,12,23],[11,25,12,25],[11,26,12,26],[11,30,12,30],[11,31,12,31],[11,32,12,32],[11,33,12,33],[11,34,12,34],[13,0,15,0],[13,1,13,34],[14,1,15,1],[14,2,15,2],[14,4,15,4],[14,5,15,5],[14,7,15,7],[14,8,15,8],[14,10,15,10],[14,11,15,11],[14,13,15,13],[14,14,15,14],[14,16,15,16],[14,17,15,17],[14,19,15,19],[14,20,15,20],[14,22,15,22],[14,23,15,23],[14,25,15,25],[14,26,15,26],[14,30,15,30],[14,31,15,31],[14,32,15,32],[14,33,15,33],[14,34,15,34],[16,0,18,0],[16,1,16,34],[17,1,18,1],[17,2,18,2],[17,4,18,4],[17,5,18,5],[17,7,18,7],[17,8,18,8],[17,10,18,10],[17,11,18,11],[17,13,18,13],[17,14,18,14],[17,16,18,16],[17,17,18,17],[17,19,18,19],[17,20,18,20],[17,22,18,22],[17,23,18,23],[17,25,18,25],[17,26,18,26],[17,30,18,30],[17,31,18,31],[17,32,18,32],[17,33,18,33],[17,34,18,34],[19,0,21,0],[19,1,19,34],[20,1,21,1],[20,2,21,2],[20,4,21,4],[20,5,21,5],[20,7,21,7],[20,8,21,8],[20,10,21,10],[20,11,21,11],[20,13,21,13],[20,14,21,14],[20,16,21,16],[20,17,21,17],[20,19,21,19],[20,20,21,20],[20,22,21,22],[20,23,21,23],[20,25,21,25],[20,26,21,26],[20,30,21,30],[20,31,21,31],[20,32,21,32],[20,33,21,33],[20,34,21,34],[22,0,24,0],[22,1,22,34],[23,1,24,1],[23,2,24,2],[23,4,24,4],[23,5,24,5],[23,7,24,7],[23,8,24,8],[23,10,24,10],[23,11,24,11],[23,13,24,13],[23,14,24,14],[23,16,24,16],[23,17,24,17],[23,19,24,19],[23,20,24,20],[23,22,24,22],[23,23,24,23],[23,25,24,25],[23,26,24,26],[23,30,24,30],[23,31,24,31],[23,32,24,32],[23,33,24,33],[23,34,24,34],[25,0,27,0],[25,1,25,34],[26,1,27,1],[26,2,27,2],[26,4,27,4],[26,5,27,5],[26,7,27,7],[26,8,27,8],[26,10,27,10],[26,11,27,11],[26,13,27,13],[26,14,27,14],[26,16,27,16],[26,17,27,17],[26,19,27,19],[26,20,27,20],[26,22,27,22],[26,23,27,23],[26,25,27,25],[26,26,27,26],[26,30,27,30],[26,31,27,31],[26,32,27,32],[26,33,27,33],[26,34,27,34],[28,0,30,0],[28,1,28,34],[29,1,30,1],[29,2,30,2],[29,4,30,4],[29,5,30,5],[29,7,30,7],[29,8,30,8],[29,10,30,10],[29,11,30,11],[29,13,30,13],[29,14,30,14],[29,16,30,16],[29,17,30,17],[29,19,30,19],[29,20,30,20],[29,22,30,22],[29,23,30,23],[29,25,30,25],[29,26,30,26],[29,30,30,30],[29,31,30,31],[29,32,30,32],[29,33,30,33],[29,34,30,34],[31,0,33,0],[31,1,31,34],[32,1,33,1],[32,2,33,2],[32,4,33,4],[32,5,33,5],[32,7,33,7],[32,8,33,8],[32,10,33,10],[32,11,33,11],[32,13,33,13],[32,14,33,14],[32,16,33,16],[32,17,33,17],[32,19,33,19],[32,20,33,20],[32,22,33,22],[32,23,33,23],[32,25,33,25],[32,26,33,26],[32,30,33,30],[32,31,33,31],[32,32,33,32],[32,33,33,33],[32,34,33,34],[34,0,36,0],[34,1,34,34],[35,1,36,1],[35,2,36,2],[35,4,36,4],[35,5,36,5],[35,7,36,7],[35,8,36,8],[35,10,36,10],[35,11,36,11],[35,13,36,13],[35,14,36,14],[35,16,36,16],[35,17,36,17],[35,19,36,19],[35,20,36,20],[35,22,36,22],[35,23,36,23],[35,25,36,25],[35,26,36,26],[35,30,36,30],[35,31,36,31],[35,32,36,32],[35,33,36,33],[35,34,36,34],[37,0,37,22],[37,23,37,34],[38,0,38,22],[38,23,38,24],[38,25,38,27],[38,29,38,30]]}
["Race Walk Judge's Summary Sheet"]
["Date",{"$nulls":3},"Start Time",{"$nulls":4},"Event",{"$nulls":18},"Chief Judge"]
[{"$f":"'1-10'!A3","v":"00:00:00"},{"$nulls":3},{"$f":"'1-10'!E3","v":"00:00:00"},{"$nulls":4},{"$f":"'1-10'!J3","v":0},{"$nulls":18},{"$f":"'1-10'!AC3","v":0}]
["Judge's Name & ID",{"$f":"'1-10'!B4","v":0},null,null,{"$f":"'1-10'!E4","v":0},null,null,{"$f":"'1-10'!H4","v":0},null,null,{"$f":"'1-10'!K4","v":0},null,null,{"$f":"'1-10'!N4","v":0},null,null,{"$f":"'1-10'!Q4","v":0},null,null,{"$f":"'1-10'!T4","v":0},null,null,{"$f":"'1-10'!W4","v":0},null,null,{"$f":"'1-10'!Z4","v":0},null,null,"Penalty Zone","Chief Judge DQ","Number of Yellow Paddles",null,"Red Cards","DQ Notification"]
["Number",1,null,null,2,null,null,3,null,null,4,null,null,5,null,null,6,null,null,7,null,null,8,null,null,9]
["Athlete ID","Paddle",null,"RC","Paddle",null,"RC","Paddle",null,"RC","Paddle",null,"RC","Paddle",null,"RC","Paddle",null,"RC","Paddle",null,"RC","Paddle",null,"RC","Paddle",null,"RC","Enter","Time","~","<",null,"Time","Call"]
[null,"~","<",null,"~","<",null,"~","<",null,"~","<",null,"~","<",null,"~","<",null,"~","<",null,"~","<",null,"~","<",null,"Exit","Call"]
[]
[{"$nulls":30},{"$f":"COUNT(S5R1LOC)","v":0},{"$f":"COUNT(S5R1BK)","v":0},{"$f":"COUNTA(S5R1RC)","v":0}]
[]
[]
[{"$nulls":30},{"$f":"COUNT(S5R2LOC)","v":0},{"$f":"COUNT(s5r2bk)","v":0},{"$f":"COUNTA(s5r2rc)","v":0}]
[]
[]
[{"$nulls":30},{"$f":"COUNT(s5r3loc)","v":0},{"$f":"COUNT(s5r3bk)","v":0},{"$f":"COUNTA(s5r3rc)","v":0}]
[]
[]
[{"$nulls":30},{"$f":"COUNT(S5R4LOC)","v":0},{"$f":"COUNT(S5R4BK)","v":0},{"$f":"COUNTA(S5R4RC)","v":0}]
[]
[]
[{"$nulls":30},{"$f":"COUNT(S5R5LOC)","v":0},{"$f":"COUNT(S5R5BK)","v":0},{"$f":"COUNTA(S5R5RC)","v":0}]
[]
[]
[{"$nulls":30},{"$f":"COUNT(S5R6LOC)","v":0},{"$f":"COUNT(S5R6BK)","v":0},{"$f":"COUNTA(S5R6RC)","v":0}]
[]
[]
[{"$nulls":30},{"$f":"COUNT(S5R7LOC)","v":0},{"$f":"COUNT(S5R7BK)","v":0},{"$f":"COUNTA(S5R7RC)","v":0}]
[]
[]
[{"$nulls":30},{"$f":"COUNT(S5R8LOC)","v":0},{"$f":"COUNT(S5R8BK)","v":0},{"$f":"COUNTA(S5R8RC)","v":0}]
[]
[]
[{"$nulls":30},{"$f":"COUNT(S5R9LOC)","v":0},{"$f":"COUNT(S5R9BK)","v":0},{"$f":"COUNTA(S5R9RC)","v":0}]
[]
[]
[{"$nulls":30},{"$f":"COUNT(S5R10LOC)","v":0},{"$f":"COUNT(S5R10BK)","v":0},{"$f":"COUNTA(S5R10RC)","v":0}]
[]
["Referee Name/Signature",{"$nulls":22},"Chief Judge Signature"]
["Recorder Name/Signature",{"$nulls":22},"Page",{"$nulls":4},"of"]

{"sheet":"51-60","index":6,"n_rows":39,"n_cols":35,"rows_kept":39,"merged":[[0,0,0,34],[1,0,1,3],[1,4,1,8],[1,9,1,27],[1,28,1,34],[2,0,2,3],[2,4,2,8],[2,9,2,27],[2,28,2,34],[3,1,3,3],[3,4,3,6],[3,7,3,9],[3,10,3,12],[3,13,3,15],[3,16,3,18],[3,19,3,21],[3,22,3,24],[3,25,3,27],[3,28,4,28],[3,29,4,29],[3,30,4,31],[3,32,6,32],[3,33,4,34],[4,1,4,3],[4,4,4,6],[4,7,4,9],[4,10,4,12],[4,13,4,15],[4,16,4,18],[4,19,4,21],[4,22,4,24],[4,25,4,27],[5,0,6,0],[5,1,5,2],[5,3,6,3],[5,4,5,5],[5,6,6,6],[5,7,5,8],[5,9,6,9],[5,10,5,11],[5,12,6,12],[5,13,5,14],[5,15,6,15],[5,16,5,17],[5,18,6,18],[5,19,5,20],[5,21,6,21],[5,22,5,23],[5,24,6,24],[5,25,5,26],[5,27,6,27],[5,30,6,30],[5,31,6,31],[5,33,6,33],[5,34,6,34],[7,0,9,0],[7,1,7,34],[8,1,9,1],[8,2,9,2],[8,4,9,4],[8,5,9,5],[8,7,9,7],[8,8,9,8],[8,10,9,10],[8,11,9,11],[8,13,9,13],[8,14,9,14],[8,16,9,16],[8,17,9,17],[8,19,9,19],[8,20,9,20],[8,22,9,22],[8,23,9,23],[8,25,9,25],[8,26,9,26],[8,30,9,30],[8,31,9,31],[8,32,9,32],[8,33,9,33],[8,34,9,34],[10,0,12,0],[10,1,10,34],[11,1,12,1],[11,2,12,2],[11,4,12,4],[11,5,12,5],[11,7,12,7],[11,8,12,8],[11,10,12,10],[11,11,12,11],[11,13,12,13],[11,14,12,14],[11,16,12,16],[11,17,12,17],[11,19,12,19],[11,20,12,20],[11,22,12,22],[11,23,12,23],[11,25,12,25],[11,26,12,26],[11,30,12,30],[11,31,12,31],[11,32,12,32],[11,33,12,33],[11,34,12,34],[13,0,15,0],[13,1,13,34],[14,1,15,1],[14,2,15,2],[14,4,15,4],[14,5,15,5],[14,7,15,7],[14,8,15,8],[14,10,15,10],[14,11,15,11],[14,13,15,13],[14,14,15,14],[14,16,15,16],[14,17,15,17],[14,19,15,19],[14,20,15,20],[14,22,15,22],[14,23,15,23],[14,25,15,25],[14,26,15,26],[14,30,15,30],[14,31,15,31],[14,32,15,32],[14,33,15,33],[14,34,15,34],[16,0,18,0],[16,1,16,34],[17,1,18,1],[17,2,18,2],[17,4,18,4],[17,5,18,5],[17,7,18,7],[17,8,18,8],[17,10,18,10],[17,11,18,11],[17,13,18,13],[17,14,18,14],[17,16,18,16],[17,17,18,17],[17,19,18,19],[17,20,18,20],[17,22,18,22],[17,23,18,23],[17,25,18,25],[17,26,18,26],[17,30,18,30],[17,31,18,31],[17,32,18,32],[17,33,18,33],[17,34,18,34],[19,0,21,0],[19,1,19,34],[20,1,21,1],[20,2,21,2],[20,4,21,4],[20,5,21,5],[20,7,21,7],[20,8,21,8],[20,10,21,10],[20,11,21,11],[20,13,21,13],[20,14,21,14],[20,16,21,16],[20,17,21,17],[20,19,21,19],[20,20,21,20],[20,22,21,22],[20,23,21,23],[20,25,21,25],[20,26,21,26],[20,30,21,30],[20,31,21,31],[20,32,21,32],[20,33,21,33],[20,34,21,34],[22,0,24,0],[22,1,22,34],[23,1,24,1],[23,2,24,2],[23,4,24,4],[23,5,24,5],[23,7,24,7],[23,8,24,8],[23,10,24,10],[23,11,24,11],[23,13,24,13],[23,14,24,14],[23,16,24,16],[23,17,24,17],[23,19,24,19],[23,20,24,20],[23,22,24,22],[23,23,24,23],[23,25,24,25],[23,26,24,26],[23,30,24,30],[23,31,24,31],[23,32,24,32],[23,33,24,33],[23,34,24,34],[25,0,27,0],[25,1,25,34],[26,1,27,1],[26,2,27,2],[26,4,27,4],[26,5,27,5],[26,7,27,7],[26,8,27,8],[26,10,27,10],[26,11,27,11],[26,13,27,13],[26,14,27,14],[26,16,27,16],[26,17,27,17],[26,19,27,19],[26,20,27,20],[26,22,27,22],[26,23,27,23],[26,25,27,25],[26,26,27,26],[26,30,27,30],[26,31,27,31],[26,32,27,32],[26,33,27,33],[26,34,27,34],[28,0,30,0],[28,1,28,34],[29,1,30,1],[29,2,30,2],[29,4,30,4],[29,5,30,5],[29,7,30,7],[29,8,30,8],[29,10,30,10],[29,11,30,11],[29,13,30,13],[29,14,30,14],[29,16,30,16],[29,17,30,17],[29,19,30,19],[29,20,30,20],[29,22,30,22],[29,23,30,23],[29,25,30,25],[29,26,30,26],[29,30,30,30],[29,31,30,31],[29,32,30,32],[29,33,30,33],[29,34,30,34],[31,0,33,0],[31,1,31,34],[32,1,33,1],[32,2,33,2],[32,4,33,4],[32,5,33,5],[32,7,33,7],[32,8,33,8],[32,10,33,10],[32,11,33,11],[32,13,33,13],[32,14,33,14],[32,16,33,16],[32,17,33,17],[32,19,33,19],[32,20,33,20],[32,22,33,22],[32,23,33,23],[32,25,33,25],[32,26,33,26],[32,30,33,30],[32,31,33,31],[32,32,33,32],[32,33,33,33],[32,34,33,34],[34,0,36,0],[34,1,34,34],[35,1,36,1],[35,2,36,2],[35,4,36,4],[35,5,36,5],[35,7,36,7],[35,8,36,8],[35,10,36,10],[35,11,36,11],[35,13,36,13],[35,14,36,14],[35,16,36,16],[35,17,36,17],[35,19,36,19],[35,20,36,20],[35,22,36,22],[35,23,36,23],[35,25,36,25],[35,26,36,26],[35,30,36,30],[35,31,36,31],[35,32,36,32],[35,33,36,33],[35,34,36,34],[37,0,37,22],[37,23,37,34],[38,0,38,22],[38,23,38,24],[38,25,38,27],[38,29,38,30]]}
["Race Walk Judge's Summary Sheet"]
["Date",{"$nulls":3},"Start Time",{"$nulls":4},"Event",{"$nulls":18},"Chief Judge"]
[{"$f":"'1-10'!A3","v":"00:00:00"},{"$nulls":3},{"$f":"'1-10'!E3","v":"00:00:00"},{"$nulls":4},{"$f":"'1-10'!J3","v":0},{"$nulls":18},{"$f":"'1-10'!AC3","v":0}]
["Judge's Name & ID",{"$f":"'1-10'!B4","v":0},null,null,{"$f":"'1-10'!E4","v":0},null,null,{"$f":"'1-10'!H4","v":0},null,null,{"$f":"'1-10'!K4","v":0},null,null,{"$f":"'1-10'!N4","v":0},null,null,{"$f":"'1-10'!Q4","v":0},null,null,{"$f":"'1-10'!T4","v":0},null,null,{"$f":"'1-10'!W4","v":0},null,null,{"$f":"'1-10'!Z4","v":0},null,null,"Penalty Zone","Chief Judge DQ","Number of Yellow Paddles",null,"Red Cards","DQ Notification"]
["Number",1,null,null,2,null,null,3,null,null,4,null,null,5,null,null,6,null,null,7,null,null,8,null,null,9]
["Athlete ID","Paddle",null,"RC","Paddle",null,"RC","Paddle",null,"RC","Paddle",null,"RC","Paddle",null,"RC","Paddle",null,"RC","Paddle",null,"RC","Paddle",null,"RC","Paddle",null,"RC","Enter","Time","~","<",null,"Time","Call"]
[null,"~","<",null,"~","<",null,"~","<",null,"~","<",null,"~","<",null,"~","<",null,"~","<",null,"~","<",null,"~","<",null,"Exit","Call"]
[]
[{"$nulls":30},{"$f":"COUNT(S6R1LOC)","v":0},{"$f":"COUNT(S6R1BK)","v":0},{"$f":"COUNTA(S6R1RC)","v":0}]
[]
[]
[{"$nulls":30},{"$f":"COUNT(S6R2LOC)","v":0},{"$f":"COUNT(S6R2BK)","v":0},{"$f":"COUNTA(S6R2RC)","v":0}]
[]
[]
[{"$nulls":30},{"$f":"COUNT(S6R3LOC)","v":0},{"$f":"COUNT(S6R3BK)","v":0},{"$f":"COUNTA(S6R3RC)","v":0}]
[]
[]
[{"$nulls":30},{"$f":"COUNT(S6R4LOC)","v":0},{"$f":"COUNT(S6R4BK)","v":0},{"$f":"COUNTA(S6R4RC)","v":0}]
[]
[]
[{"$nulls":30},{"$f":"COUNT(S6R5LOC)","v":0},{"$f":"COUNT(S6R5BK)","v":0},{"$f":"COUNTA(S6R5RC)","v":0}]
[]
[]
[{"$nulls":30},{"$f":"COUNT(S6R6LOC)","v":0},{"$f":"COUNT(S6R6BK)","v":0},{"$f":"COUNTA(S6R6RC)","v":0}]
[]
[]
[{"$nulls":30},{"$f":"COUNT(S6R7LOC)","v":0},{"$f":"COUNT(S6R7BK)","v":0},{"$f":"COUNTA(S6R7RC)","v":0}]
[]
[]
[{"$nulls":30},{"$f":"COUNT(S6R8LOC)","v":0},{"$f":"COUNT(S6R8BK)","v":0},{"$f":"COUNTA(S6R8RC)","v":0}]
[]
[]
[{"$nulls":30},{"$f":"COUNT(S6R9LOC)","v":0},{"$f":"COUNT(S6R9BK)","v":0},{"$f":"COUNTA(S6R9RC)","v":0}]
[]
[]
[{"$nulls":30},{"$f":"COUNT(S6R10LOC)","v":0},{"$f":"COUNT(S6R10BK)","v":0},{"$f":"COUNTA(S6R10RC)","v":0}]
[]
["Referee Name/Signature",{"$nulls":22},"Chief Judge Signature"]
["Recorder Name/Signature",{"$nulls":22},"Page",{"$nulls":4},"of"]

{"sheet":"Judges Summary","index":7,"n_rows":9,"n_cols":35,"rows_kept":9,"merged":[[0,0,0,34],[1,0,1,3],[1,4,1,8],[1,9,1,27],[1,28,1,34],[2,0,2,3],[2,4,2,8],[2,9,2,27],[2,28,2,34],[3,1,3,3],[3,4,3,6],[3,7,3,9],[3,10,3,12],[3,13,3,15],[3,16,3,18],[3,19,3,21],[3,22,3,24],[3,25,3,27],[3,28,4,28],[3,29,4,29],[3,30,4,31],[3,32,6,32],[3,33,4,34],[4,1,4,3],[4,4,4,6],[4,7,4,9],[4,10,4,12],[4,13,4,15],[4,16,4,18],[4,19,4,21],[4,22,4,24],[4,25,4,27],[5,0,9,0],[5,1,5,2],[5,3,6,3],[5,4,5,5],[5,6,6,6],[5,7,5,8],[5,9,6,9],[5,10,5,11],[5,12,6,12],[5,13,5,14],[5,15,6,15],[5,16,5,17],[5,18,6,18],[5,19,5,20],[5,21,6,21],[5,22,5,23],[5,24,6,24],[5,25,5,26],[5,27,6,27],[5,30,6,30],[5,31,6,31],[5,33,6,33],[5,34,6,34],[7,1,7,34],[8,1,9,1],[8,2,9,2],[8,3,9,3],[8,4,9,4],[8,5,9,5],[8,6,9,6],[8,7,9,7],[8,8,9,8],[8,9,9,9],[8,10,9,10],[8,11,9,11],[8,12,9,12],[8,13,9,13],[8,14,9,14],[8,15,9,15],[8,16,9,16],[8,17,9,17],[8,18,9,18],[8,19,9,19],[8,20,9,20],[8,21,9,21],[8,22,9,22],[8,23,9,23],[8,24,9,24],[8,25,9,25],[8,26,9,26],[8,27,9,27],[8,30,9,30],[8,31,9,31],[8,32,9,32],[8,33,9,33],[8,34,9,34]]}
["Race Walk Judge's Summary Sheet"]
["Date",{"$nulls":3},"Start Time",{"$nulls":4},"Event",{"$nulls":18},"Chief Judge"]
[{"$f":"'1-10'!A3","v":"00:00:00"},{"$nulls":3},{"$f":"'1-10'!E3","v":"00:00:00"},{"$nulls":4},{"$f":"'1-10'!J3","v":0},{"$nulls":18},{"$f":"'1-10'!AC3","v":0}]
["Judge's",{"$nulls":27},"Penalty Zone","Chief Judge  DQ","Number of Yellow Paddles",null,"Red Cards","DQ Notification"]
["Number",1,null,null,2,null,null,3,null,null,4,null,null,5,null,null,6,null,null,7,null,null,8,null,null,9]
[null,"Yellow Paddle",null,"RC","Yellow Paddle",null,"RC","Yellow Paddle",null,"RC","Yellow Paddle",null,"RC","Yellow Paddle",null,"RC","Yellow Paddle",null,"RC","Yellow Paddle",null,"RC","Yellow Paddle",null,"RC","Yellow Paddle",null,"RC","Enter","Time","~","<",null,"Time","Offence"]
[null,"~","<",null,"~","<",null,"~","<",null,"~","<",null,"~","<",null,"~","<",null,"~","<",null,"~","<",null,"~","<",null,"Exit","Offence"]
[]
[null,{"$f":"COUNT(S1J1LOC,S2J1LOC,S3J1LOC,S4J1LOC,S5J1LOC,S6J1LOC)","v":0},{"$f":"COUNT(s1j1bk,S2J1BK,S3J1BK,S4J1BK,S5J1BK,S6J1BK)","v":0},{"$f":"COUNTA(s1j1rc,S2J1RC,S3J1RC,S4J1RC,S5J1RC,S6J1RC)","v":0},{"$f":"COUNT(S1J2LOC,S2J2LOC,S3J2LOC,S4J2LOC,S5J2LOC,S6J2LOC)","v":0},{"$f":"COUNT(S1J2BK,S2J2BK,S3J2BK,S4J2BK,S5J2BK,S6J2BK)","v":0},{"$f":"COUNTA(S1J2RC,S2J2RC,S3J2RC,S4J2RC,S5J2RC,S6J2RC)","v":0},{"$f":"COUNT(S1J3LOC,S2J3LOC,S3J3LOC,S4J3LOC,S5J3LOC,S6J3LOC)","v":0},{"$f":"COUNT(S1J3BK,S2J3BK,S3J3BK,S4J3BK,S5J3BK,S6J3BK)","v":0},{"$f":"COUNTA(S1J3RC,S2J3RC,S3J3RC,S4J3RC,S5J3RC,S6J3RC)","v":0},{"$f":"COUNT(S1J4LOC,S2J4LOC,S3J4LOC,S4J4LOC,S5J4LOC,S6J4LOC)","v":0},{"$f":"COUNT(S1J4BK,S2J4BK,S3J4BK,S4J4BK,S5J4BK,S6J4BK)","v":0},{"$f":"COUNTA(S1J4RC,S2J4RC,S3J4RC,S4J4RC,S5J4RC,S6J4RC)","v":0},{"$f":"COUNT(S1J5LOC,S2J5LOC,S3J5LOC,S4J5LOC,S5J5LOC,S6J5LOC)","v":0},{"$f":"COUNT(S1J5BK,S2J5BK,S3J5BK,S4J5BK,S5J5BK,S6J5BK)","v":0},{"$f":"COUNTA(S1J5RC,S2J5RC,S3J5RC,S4J5RC,S5J5RC,S6J5RC)","v":0},{"$f":"COUNT(S1J6LOC,S2J6LOC,S3J6LOC,S4J6LOC,S5J6LOC,S6J6LOC)","v":0},{"$f":"COUNT(S1J6BK,S2J6BK,S3J6BK,S4J6BK,S5J6BK,S6J6BK)","v":0},{"$f":"COUNTA(S1J6RC,S2J6RC,S3J6RC,S4J6RC,S5J6RC,S6J6RC)","v":0},{"$f":"COUNT(S1J7LOC,S2J7LOC,S3J7LOC,S4J7LOC,S5J7LOC,S6J7LOC)","v":0},{"$f":"COUNT(S1J7BK,S2J7BK,S3J7BK,S4J7BK,S5J7BK,S6J7BK)","v":0},{"$f":"COUNTA(S1J7RC,S2J7RC,S3J7RC,S4J7RC,S5J7RC,S6J7RC)","v":0},{"$f":"COUNT(S1J8LOC,S2J8LOC,S3J8LOC,S4J8LOC,S5J8LOC,S6J8LOC)","v":0},{"$f":"COUNT(S1J8BK,S2J8BK,S3J8BK,S4J8BK,S5J8BK,S6J8BK)","v":0},{"$f":"COUNTA(S1J8RC,S2J8RC,S3J8RC,S4J8RC,S5J8RC,S6J8RC)","v":0},{"$f":"COUNT(S1J9LOC,S2J9LOC,S3J9LOC,S4J9LOC,S5J9LOC,S6J9LOC)","v":0},{"$f":"COUNT(S1J9BK,S2J9BK,S3J9BK,S4J9BK,S5J9BK,S6J9BK)","v":0},{"$f":"COUNTA(S1J9RC,S2J9RC,S3J9RC,S4J9RC,S5J9RC,S6J9RC)","v":0}]

{"sheet":"Start List","index":8,"n_rows":32,"n_cols":7,"rows_kept":32,"merged":[[0,0,0,6],[2,0,11,0],[2,4,11,4],[12,0,21,0],[12,4,21,4],[22,0,31,0],[22,4,31,4]]}
["Start List"]
["Sheet","Row","Athlete ID",null,"Sheet","Row","Athlete ID"]
["1-10","R1",{"$f":"'1-10'!A8","v":0},null,"31-40","R1",{"$f":"'31-40'!A8","v":0}]
[null,"R2",{"$f":"'1-10'!A11","v":0},null,null,"R2",{"$f":"'31-40'!A11","v":0}]
[null,"R3",{"$f":"'1-10'!A14","v":0},null,null,"R3",{"$f":"'31-40'!A14","v":0}]
[null,"R4",{"$f":"'1-10'!A17","v":0},null,null,"R4",{"$f":"'31-40'!A17","v":0}]
[null,"R5",{"$f":"'1-10'!A20","v":0},null,null,"R5",{"$f":"'31-40'!A20","v":0}]
[null,"R6",{"$f":"'1-10'!A23","v":0},null,null,"R6",{"$f":"'31-40'!A23","v":0}]
[null,"R7",{"$f":"'1-10'!A26","v":0},null,null,"R7",{"$f":"'31-40'!A26","v":0}]
[null,"R8",{"$f":"'1-10'!A29","v":0},null,null,"R8",{"$f":"'31-40'!A29","v":0}]
[null,"R9",{"$f":"'1-10'!A32","v":0},null,null,"R9",{"$f":"'31-40'!A32","v":0}]
[null,"R10",{"$f":"'1-10'!A35","v":0},null,null,"R10",{"$f":"'31-40'!A35","v":0}]
["2020-11-01","R1",{"$f":"'11-20'!A8","v":0},null,"41-50","R1",{"$f":"'41-50'!A8","v":0}]
[null,"R2",{"$f":"'11-20'!A11","v":0},null,null,"R2",{"$f":"'41-50'!A11","v":0}]
[null,"R3",{"$f":"'11-20'!A14","v":0},null,null,"R3",{"$f":"'41-50'!A14","v":0}]
[null,"R4",{"$f":"'11-20'!A17","v":0},null,null,"R4",{"$f":"'41-50'!A17","v":0}]
[null,"R5",{"$f":"'11-20'!A20","v":0},null,null,"R5",{"$f":"'41-50'!A20","v":0}]
[null,"R6",{"$f":"'11-20'!A23","v":0},null,null,"R6",{"$f":"'41-50'!A23","v":0}]
[null,"R7",{"$f":"'11-20'!A26","v":0},null,null,"R7",{"$f":"'41-50'!A26","v":0}]
[null,"R8",{"$f":"'11-20'!A29","v":0},null,null,"R8",{"$f":"'41-50'!A29","v":0}]
[null,"R9",{"$f":"'11-20'!A32","v":0},null,null,"R9",{"$f":"'41-50'!A32","v":0}]
[null,"R10",{"$f":"'11-20'!A35","v":0},null,null,"R10",{"$f":"'41-50'!A35","v":0}]
["21-30","R1",{"$f":"'21-30'!A8","v":0},null,"51-60","R1",{"$f":"'51-60'!A8","v":0}]
[null,"R2",{"$f":"'21-30'!A11","v":0},null,null,"R2",{"$f":"'51-60'!A11","v":0}]
[null,"R3",{"$f":"'21-30'!A14","v":0},null,null,"R3",{"$f":"'51-60'!A14","v":0}]
[null,"R4",{"$f":"'21-30'!A17","v":0},null,null,"R4",{"$f":"'51-60'!A17","v":0}]
[null,"R5",{"$f":"'21-30'!A20","v":0},null,null,"R5",{"$f":"'51-60'!A20","v":0}]
[null,"R6",{"$f":"'21-30'!A23","v":0},null,null,"R6",{"$f":"'51-60'!A23","v":0}]
[null,"R7",{"$f":"'21-30'!A26","v":0},null,null,"R7",{"$f":"'51-60'!A26","v":0}]
[null,"R8",{"$f":"'21-30'!A29","v":0},null,null,"R8",{"$f":"'51-60'!A29","v":0}]
[null,"R9",{"$f":"'21-30'!A32","v":0},null,null,"R9",{"$f":"'51-60'!A32","v":0}]
[null,"R10",{"$f":"'21-30'!A35","v":0},null,null,"R10",{"$f":"'51-60'!A35","v":0}]